BEGIN:VCALENDAR
VERSION:2.0
PRODID:-//NLGR - ECPv6.15.20//NONSGML v1.0//EN
CALSCALE:GREGORIAN
METHOD:PUBLISH
X-WR-CALNAME:NLGR
X-ORIGINAL-URL:https://nlgr.de
X-WR-CALDESC:Veranstaltungen für NLGR
REFRESH-INTERVAL;VALUE=DURATION:PT1H
X-Robots-Tag:noindex
X-PUBLISHED-TTL:PT1H
BEGIN:VTIMEZONE
TZID:Europe/Berlin
BEGIN:DAYLIGHT
TZOFFSETFROM:+0100
TZOFFSETTO:+0200
TZNAME:CEST
DTSTART:20250330T010000
END:DAYLIGHT
BEGIN:STANDARD
TZOFFSETFROM:+0200
TZOFFSETTO:+0100
TZNAME:CET
DTSTART:20251026T010000
END:STANDARD
BEGIN:DAYLIGHT
TZOFFSETFROM:+0100
TZOFFSETTO:+0200
TZNAME:CEST
DTSTART:20260329T010000
END:DAYLIGHT
BEGIN:STANDARD
TZOFFSETFROM:+0200
TZOFFSETTO:+0100
TZNAME:CET
DTSTART:20261025T010000
END:STANDARD
BEGIN:DAYLIGHT
TZOFFSETFROM:+0100
TZOFFSETTO:+0200
TZNAME:CEST
DTSTART:20270328T010000
END:DAYLIGHT
BEGIN:STANDARD
TZOFFSETFROM:+0200
TZOFFSETTO:+0100
TZNAME:CET
DTSTART:20271031T010000
END:STANDARD
END:VTIMEZONE
BEGIN:VEVENT
DTSTART;TZID=Europe/Berlin:20260425T170000
DTEND;TZID=Europe/Berlin:20260425T170000
DTSTAMP:20260425T055608
CREATED:20250919T082045Z
LAST-MODIFIED:20260221T145636Z
UID:10000351-1777136400-1777136400@nlgr.de
SUMMARY:"... herzlich\, deine Jane“ - Jane Austen
DESCRIPTION:Jane Austen\nGemäl­de von Cas­san­dra Austen \nInes Habich-Milo­vić  (Tex­te) und Moni­ka Wisch­now­ski (Har­fe) \nDie vor 250 Jah­ren gebo­re­ne eng­li­sche Schrift­stel­le­rin Jane Aus­ten ist durch die vie­len Ver­fil­mun­gen ihrer Wer­ke auch bei uns sehr bekannt.\nWeni­ger bekannt ist\, dass sie zahl­rei­che inter­es­san­te Brie­fe geschrie­ben hat\, von denen ein gro­ßer Teil erhal­ten ist. Auch in ihren Roma­nen\, die im Milieu des eng­li­schen Land­adels spie­len\, sind vie­le Brie­fe zu lesen.\nZu den Höhe­punk­ten ihres Lebens zähl­ten Bäl­le\, Tanz und Musi­zie­ren im Freun­des­kreis. Bei den Fes­ten spiel­ten die jun­gen Ladies Tanz­mu­sik auf dem Tafel­klavier und san­gen oder hat­ten eine Har­fe\, um dar­auf zeit­ge­nös­si­sche Musik vor­zu­spie­len. Ihre Frei­zeit ver­brachten sie mit dem Schrei­ben von Brie­fen\, Hand­ar­bei­ten und dem War­ten auf den rich­ti­gen – mög­lichst rei­chen – Ehepartner.\nDa inzwi­schen auch die ins Deut­sche über­setz­ten Jugend­werke greif­bar sind\, haben wir eine Men­ge Mate­ri­al für eine inter­es­san­te Begegnung. \nGenie­ßen Sie mit uns Jane Aus­tens Welt und die Erin­ne­run­gen an die­se groß­ar­ti­ge Schriftstellerin. \nVor­ver­kauf beginnt ca. 25.2.\, Reser­vie­run­gen sind ab sofort möglich \nTei­len
URL:https://nlgr.de/veranstaltung/herzlich-deine-jane/
LOCATION:Stadtbibliothek Recklinghausen\, Augustinessenstr. 3\, Recklinghausen\, 45657
CATEGORIES:Lesung mit Musik,Rezitation
ATTACH;FMTTYPE=image/jpeg:https://nlgr.de/wp-content/uploads/2025/09/Beitragsbild.jpg
ORGANIZER;CN="NLGR - Neue Literarische Gesellschaft Recklinghausen":MAILTO:kropla@nlgr.de
GEO:51.614925772402;7.1958760682271
X-APPLE-STRUCTURED-LOCATION;VALUE=URI;X-ADDRESS=Stadtbibliothek Recklinghausen Augustinessenstr. 3 Recklinghausen 45657;X-APPLE-RADIUS=500;X-TITLE=Augustinessenstr. 3:geo:7.1958760682271,51.614925772402
END:VEVENT
END:VCALENDAR